BEGIN:VCALENDAR
VERSION:2.0
PRODID:-//Hawthorne High School - ECPv6.13.0//NONSGML v1.0//EN
CALSCALE:GREGORIAN
METHOD:PUBLISH
X-ORIGINAL-URL:https://hhs.pendleton.k12.or.us
X-WR-CALDESC:Events for Hawthorne High School
REFRESH-INTERVAL;VALUE=DURATION:PT1H
X-Robots-Tag:noindex
X-PUBLISHED-TTL:PT1H
BEGIN:VTIMEZONE
TZID:America/Los_Angeles
BEGIN:DAYLIGHT
TZOFFSETFROM:-0800
TZOFFSETTO:-0700
TZNAME:PDT
DTSTART:20240310T100000
END:DAYLIGHT
BEGIN:STANDARD
TZOFFSETFROM:-0700
TZOFFSETTO:-0800
TZNAME:PST
DTSTART:20241103T090000
END:STANDARD
BEGIN:DAYLIGHT
TZOFFSETFROM:-0800
TZOFFSETTO:-0700
TZNAME:PDT
DTSTART:20250309T100000
END:DAYLIGHT
BEGIN:STANDARD
TZOFFSETFROM:-0700
TZOFFSETTO:-0800
TZNAME:PST
DTSTART:20251102T090000
END:STANDARD
END:VTIMEZONE
BEGIN:VEVENT
DTSTART;TZID=America/Los_Angeles:20250508T150000
DTEND;TZID=America/Los_Angeles:20250508T163000
DTSTAMP:20260421T113946
CREATED:20250321T172258Z
LAST-MODIFIED:20250508T193823Z
UID:10000969-1746716400-1746721800@hhs.pendleton.k12.or.us
SUMMARY:Open House
DESCRIPTION:Join the PELC as they celebrate 10 years! They are also recognizing the Wildhorse Foundation for their generous grant funding of the library.  Presentation at 3:45 pm.
URL:https://hhs.pendleton.k12.or.us/event/open-house-4/
CATEGORIES:Early Learning Center
END:VEVENT
BEGIN:VEVENT
DTSTART;TZID=America/Los_Angeles:20250410T163000
DTEND;TZID=America/Los_Angeles:20250410T183000
DTSTAMP:20260421T113946
CREATED:20250124T125233Z
LAST-MODIFIED:20250410T182222Z
UID:10000962-1744302600-1744309800@hhs.pendleton.k12.or.us
SUMMARY:Family Night/Kindergarten Registration
DESCRIPTION:Come in to register your incoming kindergarten student at Family Night at the PELC.
URL:https://hhs.pendleton.k12.or.us/event/kindergarten-registration-14/
CATEGORIES:Early Learning Center
END:VEVENT
BEGIN:VEVENT
DTSTART;TZID=America/Los_Angeles:20250408T080000
DTEND;TZID=America/Los_Angeles:20250408T140000
DTSTAMP:20260421T113946
CREATED:20240816T043729Z
LAST-MODIFIED:20250408T182231Z
UID:10000929-1744099200-1744120800@hhs.pendleton.k12.or.us
SUMMARY:Spring Picture Day
DESCRIPTION:PELC’s spring picture day and group pictures.
URL:https://hhs.pendleton.k12.or.us/event/spring-picture-day-2/
CATEGORIES:Early Learning Center
END:VEVENT
BEGIN:VEVENT
DTSTART;VALUE=DATE:20250408
DTEND;VALUE=DATE:20250409
DTSTAMP:20260421T113946
CREATED:20240408T130806Z
LAST-MODIFIED:20240815T043727Z
UID:10000861-1744070400-1744156799@hhs.pendleton.k12.or.us
SUMMARY:Spring Picture Day
DESCRIPTION:Spring Picture Day and Group Pictures at the PELC
URL:https://hhs.pendleton.k12.or.us/event/spring-picture-day/
CATEGORIES:Early Learning Center
END:VEVENT
BEGIN:VEVENT
DTSTART;TZID=America/Los_Angeles:20250304T163000
DTEND;TZID=America/Los_Angeles:20250306T183000
DTSTAMP:20260421T113946
CREATED:20241218T102310Z
LAST-MODIFIED:20250304T153732Z
UID:10000959-1741105800-1741285800@hhs.pendleton.k12.or.us
SUMMARY:Kindergarten Registration
DESCRIPTION:Time to register your incoming kindergarten students at Family Night/Spring Conferences at the PELC.
URL:https://hhs.pendleton.k12.or.us/event/kindergarten-registration-13/
CATEGORIES:Early Learning Center
END:VEVENT
BEGIN:VEVENT
DTSTART;TZID=America/Los_Angeles:20250220T163000
DTEND;TZID=America/Los_Angeles:20250220T183000
DTSTAMP:20260421T113946
CREATED:20241218T102310Z
LAST-MODIFIED:20250220T143722Z
UID:10000958-1740069000-1740076200@hhs.pendleton.k12.or.us
SUMMARY:Early Kindergarten Registration
DESCRIPTION:Early Registration at the PELC Family Night
URL:https://hhs.pendleton.k12.or.us/event/kindergarten-registration-12/
CATEGORIES:Early Learning Center
END:VEVENT
BEGIN:VEVENT
DTSTART;TZID=America/Los_Angeles:20250123T163000
DTEND;TZID=America/Los_Angeles:20250123T183000
DTSTAMP:20260421T113946
CREATED:20241220T102409Z
LAST-MODIFIED:20250123T125219Z
UID:10000960-1737649800-1737657000@hhs.pendleton.k12.or.us
SUMMARY:Family Night
DESCRIPTION:The PELC is hosting a family night with books\, fun\, and a free dinner.  4:30-6:30 pm
URL:https://hhs.pendleton.k12.or.us/event/family-night-8/
CATEGORIES:Early Learning Center
END:VEVENT
BEGIN:VEVENT
DTSTART;TZID=America/Los_Angeles:20241210T080000
DTEND;TZID=America/Los_Angeles:20241210T140000
DTSTAMP:20260421T113946
CREATED:20240816T043727Z
LAST-MODIFIED:20241210T095328Z
UID:10000924-1733817600-1733839200@hhs.pendleton.k12.or.us
SUMMARY:Picture Retakes
DESCRIPTION:PELC’s picture retake day
URL:https://hhs.pendleton.k12.or.us/event/picture-retakes-3/
CATEGORIES:Early Learning Center
END:VEVENT
BEGIN:VEVENT
DTSTART;VALUE=DATE:20241210
DTEND;VALUE=DATE:20241211
DTSTAMP:20260421T113946
CREATED:20240214T105332Z
LAST-MODIFIED:20240815T043726Z
UID:10000794-1733788800-1733875199@hhs.pendleton.k12.or.us
SUMMARY:Picture Day Retakes
DESCRIPTION:Picture Day Retakes at the PELC
URL:https://hhs.pendleton.k12.or.us/event/picture-day-retakes/
CATEGORIES:Early Learning Center
END:VEVENT
BEGIN:VEVENT
DTSTART;TZID=America/Los_Angeles:20241205T093000
DTEND;TZID=America/Los_Angeles:20241205T140000
DTSTAMP:20260421T113946
CREATED:20240816T043727Z
LAST-MODIFIED:20241205T093734Z
UID:10000923-1733391000-1733407200@hhs.pendleton.k12.or.us
SUMMARY:Winter Concert
DESCRIPTION:PELC’s winter concert. \nBees\, Owl\, Dragonflies – 9:30 AM\nSquirrels\, Racoons\, Foxes – 10:25 AM\nCoyotes & Beavers – 11:10 AM\nBears & Otters – 1:25 PM
URL:https://hhs.pendleton.k12.or.us/event/winter-concert/
CATEGORIES:Early Learning Center
END:VEVENT
BEGIN:VEVENT
DTSTART;TZID=America/Los_Angeles:20241204T163000
DTEND;TZID=America/Los_Angeles:20241204T183000
DTSTAMP:20260421T113946
CREATED:20240816T043727Z
LAST-MODIFIED:20241204T093905Z
UID:10000922-1733329800-1733337000@hhs.pendleton.k12.or.us
SUMMARY:Family Night
DESCRIPTION:PELC is hosting a family night and book fair.
URL:https://hhs.pendleton.k12.or.us/event/family-night-5/
CATEGORIES:Early Learning Center
END:VEVENT
BEGIN:VEVENT
DTSTART;TZID=America/Los_Angeles:20241121T163000
DTEND;TZID=America/Los_Angeles:20241121T183000
DTSTAMP:20260421T113946
CREATED:20241102T080717Z
LAST-MODIFIED:20241121T092308Z
UID:10000949-1732206600-1732213800@hhs.pendleton.k12.or.us
SUMMARY:Family Night
DESCRIPTION:Fall Basket Raffle and Family Night at the PELC with a free dinner.
URL:https://hhs.pendleton.k12.or.us/event/family-night-7/
CATEGORIES:Early Learning Center
END:VEVENT
BEGIN:VEVENT
DTSTART;TZID=America/Los_Angeles:20241017T163000
DTEND;TZID=America/Los_Angeles:20241017T183000
DTSTAMP:20260421T113946
CREATED:20241003T065218Z
LAST-MODIFIED:20241017T073737Z
UID:10000937-1729182600-1729189800@hhs.pendleton.k12.or.us
SUMMARY:Family Night
DESCRIPTION:The PELC is hosting a family night from 4:30-6:30 pm that includes a free dinner.  For more information\, please call 541-966-3306.
URL:https://hhs.pendleton.k12.or.us/event/family-night-6/
CATEGORIES:Early Learning Center
END:VEVENT
BEGIN:VEVENT
DTSTART;VALUE=DATE:20241003
DTEND;VALUE=DATE:20241004
DTSTAMP:20260421T113946
CREATED:20240214T105332Z
LAST-MODIFIED:20241003T065222Z
UID:10000793-1727913600-1727999999@hhs.pendleton.k12.or.us
SUMMARY:Picture Day
DESCRIPTION:Picture Day at the PELC.
URL:https://hhs.pendleton.k12.or.us/event/picture-day/
CATEGORIES:Early Learning Center
END:VEVENT
BEGIN:VEVENT
DTSTART;TZID=America/Los_Angeles:20240905T163000
DTEND;TZID=America/Los_Angeles:20240905T183000
DTSTAMP:20260421T113946
CREATED:20240730T035222Z
LAST-MODIFIED:20240905T053753Z
UID:10000882-1725553800-1725561000@hhs.pendleton.k12.or.us
SUMMARY:Kindergarten Open House
DESCRIPTION:The PELC is holding an open house for all their students and families
URL:https://hhs.pendleton.k12.or.us/event/kindergarten-open-house/
CATEGORIES:Early Learning Center
END:VEVENT
BEGIN:VEVENT
DTSTART;TZID=America/Los_Angeles:20240826T080000
DTEND;TZID=America/Los_Angeles:20240829T143000
DTSTAMP:20260421T113946
CREATED:20240803T035245Z
LAST-MODIFIED:20240826T043755Z
UID:10000905-1724659200-1724941800@hhs.pendleton.k12.or.us
SUMMARY:Kindergarten Soft Start
DESCRIPTION:Kindergarten students are assigned a day this week to come meet the staff and get familiar with the building.  Important parent/family meeting 7:55-9:00 am.
URL:https://hhs.pendleton.k12.or.us/event/kindergarten-soft-start/
CATEGORIES:Early Learning Center
END:VEVENT
BEGIN:VEVENT
DTSTART;TZID=America/Los_Angeles:20240530T163000
DTEND;TZID=America/Los_Angeles:20240530T183000
DTSTAMP:20260421T113946
CREATED:20240224T112326Z
LAST-MODIFIED:20240530T162222Z
UID:10000803-1717086600-1717093800@hhs.pendleton.k12.or.us
SUMMARY:Kindergarten Registration
DESCRIPTION:Kindergarten Registration for 2024-25 @ the PELC\nApril 18 – 4:30-6:30 pm\nMay 9 – 4:30-6:30 pm\nMay 30 – 4:30-6:30 pm
URL:https://hhs.pendleton.k12.or.us/event/kindergarten-registration-11/
CATEGORIES:Early Learning Center
END:VEVENT
BEGIN:VEVENT
DTSTART;TZID=America/Los_Angeles:20240509T163000
DTEND;TZID=America/Los_Angeles:20240509T183000
DTSTAMP:20260421T113946
CREATED:20240404T125505Z
LAST-MODIFIED:20240509T143758Z
UID:10000858-1715272200-1715279400@hhs.pendleton.k12.or.us
SUMMARY:Family Night
DESCRIPTION:BINGO at the PELC for family night from 4:30-6:30 pm.
URL:https://hhs.pendleton.k12.or.us/event/family-night-4/
CATEGORIES:Early Learning Center
END:VEVENT
BEGIN:VEVENT
DTSTART;TZID=America/Los_Angeles:20240509T163000
DTEND;TZID=America/Los_Angeles:20240509T183000
DTSTAMP:20260421T113946
CREATED:20240224T112326Z
LAST-MODIFIED:20240509T143757Z
UID:10000802-1715272200-1715279400@hhs.pendleton.k12.or.us
SUMMARY:Kindergarten Registration
DESCRIPTION:Kindergarten Registration for 2024-25 @ the PELC\nApril 18 – 4:30-6:30 pm\nMay 9 – 4:30-6:30 pm\nMay 30 – 4:30-6:30 pm
URL:https://hhs.pendleton.k12.or.us/event/kindergarten-registration-10/
CATEGORIES:Early Learning Center
END:VEVENT
BEGIN:VEVENT
DTSTART;VALUE=DATE:20240422
DTEND;VALUE=DATE:20240423
DTSTAMP:20260421T113946
CREATED:20240411T130853Z
LAST-MODIFIED:20240422T134905Z
UID:10000862-1713744000-1713830399@hhs.pendleton.k12.or.us
SUMMARY:Bring Your Grown-Up to Music
DESCRIPTION:Bring your grown-up to music day at the PELC on April 22. \nOwls – 8:55\nBears – 9:25\nSquirrels – 9:55\nCoyotes – 10:25\nFoxes – 11:35\nOtters – 12:05\nBobcats – 12:35\nRaccoons – 1:05\nBees – 1:35\nBeavers – 2:05
URL:https://hhs.pendleton.k12.or.us/event/bring-your-grown-up-to-music/
CATEGORIES:Early Learning Center
END:VEVENT
BEGIN:VEVENT
DTSTART;TZID=America/Los_Angeles:20240418T163000
DTEND;TZID=America/Los_Angeles:20240418T183000
DTSTAMP:20260421T113946
CREATED:20240404T125505Z
LAST-MODIFIED:20240418T132512Z
UID:10000857-1713457800-1713465000@hhs.pendleton.k12.or.us
SUMMARY:Family Night
DESCRIPTION:The PELC is hosting an insect night for families from 4:30-6:30 pm.
URL:https://hhs.pendleton.k12.or.us/event/family-night-3/
CATEGORIES:Early Learning Center
END:VEVENT
BEGIN:VEVENT
DTSTART;TZID=America/Los_Angeles:20240418T163000
DTEND;TZID=America/Los_Angeles:20240418T183000
DTSTAMP:20260421T113946
CREATED:20240224T112325Z
LAST-MODIFIED:20240418T132512Z
UID:10000801-1713457800-1713465000@hhs.pendleton.k12.or.us
SUMMARY:Kindergarten Registration
DESCRIPTION:Kindergarten Registration for 2024-25 @ the PELC\nApril 18 – 4:30-6:30 pm\nMay 9 – 4:30-6:30 pm\nMay 30 – 4:30-6:30 pm
URL:https://hhs.pendleton.k12.or.us/event/kindergarten-registration-9/
CATEGORIES:Early Learning Center
END:VEVENT
BEGIN:VEVENT
DTSTART;TZID=America/Los_Angeles:20240316T100000
DTEND;TZID=America/Los_Angeles:20240316T110000
DTSTAMP:20260421T113946
CREATED:20240312T120958Z
LAST-MODIFIED:20240316T120830Z
UID:10000806-1710583200-1710586800@hhs.pendleton.k12.or.us
SUMMARY:Kinder Readers
DESCRIPTION:Kindergarten Readers March 16\, 10:00 a.m. at the Pendleton Public Library
URL:https://hhs.pendleton.k12.or.us/event/kinder-readers/
CATEGORIES:Early Learning Center
END:VEVENT
BEGIN:VEVENT
DTSTART;TZID=America/Los_Angeles:20240314T170000
DTEND;TZID=America/Los_Angeles:20240314T180000
DTSTAMP:20260421T113946
CREATED:20240224T112325Z
LAST-MODIFIED:20240314T142215Z
UID:10000800-1710435600-1710439200@hhs.pendleton.k12.or.us
SUMMARY:Kindergarten Registration
DESCRIPTION:Kindergarten Registration for 2024-25 @ CAY-UMA-WA Family Event
URL:https://hhs.pendleton.k12.or.us/event/kindergarten-registration-8/
CATEGORIES:Early Learning Center
END:VEVENT
BEGIN:VEVENT
DTSTART;TZID=America/Los_Angeles:20240308T073000
DTEND;TZID=America/Los_Angeles:20240308T153000
DTSTAMP:20260421T113946
CREATED:20240224T112325Z
LAST-MODIFIED:20240308T114120Z
UID:10000799-1709883000-1709911800@hhs.pendleton.k12.or.us
SUMMARY:Kindergarten Registration
DESCRIPTION:Kindergarten Registration for 2024-25 @ the PELC\nMarch 5 – 3-7:30 pm\nMarch 6 – 3-7:30 pm\nMarch 7 – 3-7:30 pm\nMarch 8 – 7:30 am-3:30 pm
URL:https://hhs.pendleton.k12.or.us/event/kindergarten-registration-7/
CATEGORIES:Early Learning Center
END:VEVENT
BEGIN:VEVENT
DTSTART;TZID=America/Los_Angeles:20240307T150000
DTEND;TZID=America/Los_Angeles:20240307T193000
DTSTAMP:20260421T113946
CREATED:20240224T112325Z
LAST-MODIFIED:20240307T113844Z
UID:10000798-1709823600-1709839800@hhs.pendleton.k12.or.us
SUMMARY:Kindergarten Registration
DESCRIPTION:Kindergarten Registration for 2024-25 @ the PELC\nMarch 5 – 3-7:30 pm\nMarch 6 – 3-7:30 pm\nMarch 7 – 3-7:30 pm\nMarch 8 – 7:30 am-3:30 pm
URL:https://hhs.pendleton.k12.or.us/event/kindergarten-registration-6/
CATEGORIES:Early Learning Center
END:VEVENT
BEGIN:VEVENT
DTSTART;TZID=America/Los_Angeles:20240306T150000
DTEND;TZID=America/Los_Angeles:20240306T193000
DTSTAMP:20260421T113946
CREATED:20240224T112324Z
LAST-MODIFIED:20240305T113735Z
UID:10000797-1709737200-1709753400@hhs.pendleton.k12.or.us
SUMMARY:Kindergarten Registration
DESCRIPTION:Kindergarten Registration for 2024-25 @ the PELC\nMarch 5 – 3-7:30 pm\nMarch 6 – 3-7:30 pm\nMarch 7 – 3-7:30 pm\nMarch 8 – 7:30 am-3:30 pm
URL:https://hhs.pendleton.k12.or.us/event/kindergarten-registration-5/
CATEGORIES:Early Learning Center
END:VEVENT
BEGIN:VEVENT
DTSTART;TZID=America/Los_Angeles:20240305T150000
DTEND;TZID=America/Los_Angeles:20240305T193000
DTSTAMP:20260421T113946
CREATED:20240224T112324Z
LAST-MODIFIED:20240305T113735Z
UID:10000796-1709650800-1709667000@hhs.pendleton.k12.or.us
SUMMARY:Kindergarten Registration
DESCRIPTION:Kindergarten Registration for 2024-25 @ the PELC\nMarch 5 – 3-7:30 pm\nMarch 6 – 3-7:30 pm\nMarch 7 – 3-7:30 pm\nMarch 8 – 7:30 am-3:30 pm
URL:https://hhs.pendleton.k12.or.us/event/kindergarten-registration-4/
CATEGORIES:Early Learning Center
END:VEVENT
BEGIN:VEVENT
DTSTART;VALUE=DATE:20240304
DTEND;VALUE=DATE:20240309
DTSTAMP:20260421T113946
CREATED:20230613T161235Z
LAST-MODIFIED:20240304T113828Z
UID:10000713-1709510400-1709942399@hhs.pendleton.k12.or.us
SUMMARY:Book Fair
DESCRIPTION:PELC is having a spring Book Fair the week of March 4-8.
URL:https://hhs.pendleton.k12.or.us/event/book-fair-2/
CATEGORIES:Early Learning Center
END:VEVENT
BEGIN:VEVENT
DTSTART;VALUE=DATE:20240223
DTEND;VALUE=DATE:20240224
DTSTAMP:20260421T113946
CREATED:20240206T105314Z
LAST-MODIFIED:20240223T112222Z
UID:10000792-1708646400-1708732799@hhs.pendleton.k12.or.us
SUMMARY:PELC 100th Day of School Celebration
DESCRIPTION:PELC students are celebrating 100 days of school on Friday\, February 23\, 2024.
URL:https://hhs.pendleton.k12.or.us/event/pelc-100th-day-of-school-celebration/
CATEGORIES:Early Learning Center
END:VEVENT
END:VCALENDAR