BEGIN:VCALENDAR
VERSION:2.0
PRODID:-//Hawthorne High School - ECPv6.13.0//NONSGML v1.0//EN
CALSCALE:GREGORIAN
METHOD:PUBLISH
X-WR-CALNAME:Hawthorne High School
X-ORIGINAL-URL:https://hhs.pendleton.k12.or.us
X-WR-CALDESC:Events for Hawthorne High School
REFRESH-INTERVAL;VALUE=DURATION:PT1H
X-Robots-Tag:noindex
X-PUBLISHED-TTL:PT1H
BEGIN:VTIMEZONE
TZID:America/Los_Angeles
BEGIN:DAYLIGHT
TZOFFSETFROM:-0800
TZOFFSETTO:-0700
TZNAME:PDT
DTSTART:20220313T100000
END:DAYLIGHT
BEGIN:STANDARD
TZOFFSETFROM:-0700
TZOFFSETTO:-0800
TZNAME:PST
DTSTART:20221106T090000
END:STANDARD
BEGIN:DAYLIGHT
TZOFFSETFROM:-0800
TZOFFSETTO:-0700
TZNAME:PDT
DTSTART:20230312T100000
END:DAYLIGHT
BEGIN:STANDARD
TZOFFSETFROM:-0700
TZOFFSETTO:-0800
TZNAME:PST
DTSTART:20231105T090000
END:STANDARD
BEGIN:DAYLIGHT
TZOFFSETFROM:-0800
TZOFFSETTO:-0700
TZNAME:PDT
DTSTART:20240310T100000
END:DAYLIGHT
BEGIN:STANDARD
TZOFFSETFROM:-0700
TZOFFSETTO:-0800
TZNAME:PST
DTSTART:20241103T090000
END:STANDARD
BEGIN:DAYLIGHT
TZOFFSETFROM:-0800
TZOFFSETTO:-0700
TZNAME:PDT
DTSTART:20250309T100000
END:DAYLIGHT
BEGIN:STANDARD
TZOFFSETFROM:-0700
TZOFFSETTO:-0800
TZNAME:PST
DTSTART:20251102T090000
END:STANDARD
BEGIN:DAYLIGHT
TZOFFSETFROM:-0800
TZOFFSETTO:-0700
TZNAME:PDT
DTSTART:20260308T100000
END:DAYLIGHT
BEGIN:STANDARD
TZOFFSETFROM:-0700
TZOFFSETTO:-0800
TZNAME:PST
DTSTART:20261101T090000
END:STANDARD
END:VTIMEZONE
BEGIN:VEVENT
DTSTART;TZID=America/Los_Angeles:20260305T153000
DTEND;TZID=America/Los_Angeles:20260305T191500
DTSTAMP:20260422T004416
CREATED:20260214T185731Z
LAST-MODIFIED:20260305T195625Z
UID:10001123-1772724600-1772738100@hhs.pendleton.k12.or.us
SUMMARY:Evening Conferences (K-5)
DESCRIPTION:Evening Conferences for Grades K-5 at PELC\, McKay\, Sherwood\, and Washington Elementary Schools.\n3:30 pm – 7:15 pm
URL:https://hhs.pendleton.k12.or.us/event/evening-conferences-k-5-2/
CATEGORIES:Early Learning Center,McKay Elementary School,Sherwood Elementary School,Washington Elementary School
END:VEVENT
BEGIN:VEVENT
DTSTART;TZID=America/Los_Angeles:20260303T153000
DTEND;TZID=America/Los_Angeles:20260303T193000
DTSTAMP:20260422T004416
CREATED:20260214T185731Z
LAST-MODIFIED:20260303T195626Z
UID:10001121-1772551800-1772566200@hhs.pendleton.k12.or.us
SUMMARY:Evening Conferences (K-5)
DESCRIPTION:Grades K-5 evening conferences at the PELC\, McKay\, Sherwood\, and Washington Elementary Schools\n3:30 pm – 7:30 pm
URL:https://hhs.pendleton.k12.or.us/event/evening-conferences-k-5/
CATEGORIES:Early Learning Center,McKay Elementary School,Sherwood Elementary School,Washington Elementary School
END:VEVENT
BEGIN:VEVENT
DTSTART;TZID=America/Los_Angeles:20251212T120000
DTEND;TZID=America/Los_Angeles:20251212T143000
DTSTAMP:20260422T004416
CREATED:20251205T100712Z
LAST-MODIFIED:20251212T103722Z
UID:10001117-1765540800-1765549800@hhs.pendleton.k12.or.us
SUMMARY:Winter Programs
DESCRIPTION:McKay students invite you to their 2025 Winter Programs.\nGrades 1 & 3 – 12:00 PM\nGrade 2 – 1:00 PM\nGrades 4 & 5 – 1:40 PM
URL:https://hhs.pendleton.k12.or.us/event/winter-programs-2/
CATEGORIES:McKay Elementary School
END:VEVENT
BEGIN:VEVENT
DTSTART;TZID=America/Los_Angeles:20250423T173000
DTEND;TZID=America/Los_Angeles:20250423T193000
DTSTAMP:20260422T004416
CREATED:20250419T190714Z
LAST-MODIFIED:20250423T190713Z
UID:10000971-1745429400-1745436600@hhs.pendleton.k12.or.us
SUMMARY:Family Fun Night/Book Fair
DESCRIPTION:McKay Parent’s Club is hosting a family fun night/book fair.
URL:https://hhs.pendleton.k12.or.us/event/family-fun-night-book-fair/
CATEGORIES:McKay Elementary School
END:VEVENT
BEGIN:VEVENT
DTSTART;TZID=America/Los_Angeles:20250415T080000
DTEND;TZID=America/Los_Angeles:20250415T143000
DTSTAMP:20260422T004416
CREATED:20240816T043729Z
LAST-MODIFIED:20250415T185228Z
UID:10000930-1744704000-1744727400@hhs.pendleton.k12.or.us
SUMMARY:Spring Picture Day
DESCRIPTION:McKay Elementary spring picture day.
URL:https://hhs.pendleton.k12.or.us/event/spring-picture-day-3/
CATEGORIES:McKay Elementary School
END:VEVENT
BEGIN:VEVENT
DTSTART;TZID=America/Los_Angeles:20250318T080000
DTEND;TZID=America/Los_Angeles:20250318T143000
DTSTAMP:20260422T004416
CREATED:20240816T043728Z
LAST-MODIFIED:20250318T170725Z
UID:10000927-1742284800-1742308200@hhs.pendleton.k12.or.us
SUMMARY:Spring Concert
DESCRIPTION:McKay Elementary Spring Concerts.  More information coming.
URL:https://hhs.pendleton.k12.or.us/event/spring-concert/
CATEGORIES:McKay Elementary School
END:VEVENT
BEGIN:VEVENT
DTSTART;TZID=America/Los_Angeles:20241211T083000
DTEND;TZID=America/Los_Angeles:20241211T110000
DTSTAMP:20260422T004416
CREATED:20240816T043727Z
LAST-MODIFIED:20241211T100724Z
UID:10000925-1733905800-1733914800@hhs.pendleton.k12.or.us
SUMMARY:Winter Concert
DESCRIPTION:McKay Elementary Winter Concert. \nGrade 1 – 8:30 AM\nGrades 2 & 4 – 9:20 AM\nGrades 3 & 5 – 10:30
URL:https://hhs.pendleton.k12.or.us/event/winter-concert-2/
CATEGORIES:McKay Elementary School
END:VEVENT
BEGIN:VEVENT
DTSTART;TZID=America/Los_Angeles:20241113T080000
DTEND;TZID=America/Los_Angeles:20241113T143000
DTSTAMP:20260422T004416
CREATED:20240816T043726Z
LAST-MODIFIED:20241113T085225Z
UID:10000920-1731484800-1731508200@hhs.pendleton.k12.or.us
SUMMARY:Picture Retakes
DESCRIPTION:McKay Elementary picture retakes
URL:https://hhs.pendleton.k12.or.us/event/picture-retakes/
CATEGORIES:McKay Elementary School
END:VEVENT
BEGIN:VEVENT
DTSTART;TZID=America/Los_Angeles:20240920T080000
DTEND;TZID=America/Los_Angeles:20240920T143000
DTSTAMP:20260422T004416
CREATED:20240816T043726Z
LAST-MODIFIED:20240920T062223Z
UID:10000918-1726819200-1726842600@hhs.pendleton.k12.or.us
SUMMARY:Fall Picture Day
DESCRIPTION:McKay Elementary fall picture day
URL:https://hhs.pendleton.k12.or.us/event/fall-picture-day/
CATEGORIES:McKay Elementary School
END:VEVENT
BEGIN:VEVENT
DTSTART;TZID=America/Los_Angeles:20240916T183000
DTEND;TZID=America/Los_Angeles:20240916T193000
DTSTAMP:20260422T004416
CREATED:20240816T043725Z
LAST-MODIFIED:20240916T060928Z
UID:10000917-1726511400-1726515000@hhs.pendleton.k12.or.us
SUMMARY:Parent Club Meeting
DESCRIPTION:McKay Elementary Parent Club Meeting from 6:30-7:30 pm
URL:https://hhs.pendleton.k12.or.us/event/parent-club-meeting-2/
CATEGORIES:McKay Elementary School
END:VEVENT
BEGIN:VEVENT
DTSTART;TZID=America/Los_Angeles:20240416T170000
DTEND;TZID=America/Los_Angeles:20240416T190000
DTSTAMP:20260422T004416
CREATED:20240405T125519Z
LAST-MODIFIED:20240416T132238Z
UID:10000859-1713286800-1713294000@hhs.pendleton.k12.or.us
SUMMARY:Pie Social
DESCRIPTION:McKay is having a pie social on 4/16 from 5-7 pm.  The book fair will also be open.
URL:https://hhs.pendleton.k12.or.us/event/pie-social/
CATEGORIES:McKay Elementary School
END:VEVENT
BEGIN:VEVENT
DTSTART;VALUE=DATE:20240415
DTEND;VALUE=DATE:20240420
DTSTAMP:20260422T004416
CREATED:20240312T120959Z
LAST-MODIFIED:20240415T132223Z
UID:10000808-1713139200-1713571199@hhs.pendleton.k12.or.us
SUMMARY:Book Fair
DESCRIPTION:McKay’s Spring Book Fair is April 15-19.
URL:https://hhs.pendleton.k12.or.us/event/book-fair-3/
CATEGORIES:McKay Elementary School
END:VEVENT
BEGIN:VEVENT
DTSTART;TZID=America/Los_Angeles:20240402T183000
DTEND;TZID=America/Los_Angeles:20240402T193000
DTSTAMP:20260422T004416
CREATED:20240312T120959Z
LAST-MODIFIED:20240402T125235Z
UID:10000807-1712082600-1712086200@hhs.pendleton.k12.or.us
SUMMARY:Parent Club Meeting
DESCRIPTION:McKay’s Parent Club meeting starts at 6:30.
URL:https://hhs.pendleton.k12.or.us/event/parent-club-meeting/
CATEGORIES:McKay Elementary School
END:VEVENT
BEGIN:VEVENT
DTSTART;TZID=America/Los_Angeles:20240314T173000
DTEND;TZID=America/Los_Angeles:20240314T193000
DTSTAMP:20260422T004416
CREATED:20240312T120958Z
LAST-MODIFIED:20240314T120800Z
UID:10000805-1710437400-1710444600@hhs.pendleton.k12.or.us
SUMMARY:Carnival
DESCRIPTION:McKay Elementary is having its carnival from 5:30 to 7:30 p.m. on 3/14.
URL:https://hhs.pendleton.k12.or.us/event/carnival/
CATEGORIES:McKay Elementary School
END:VEVENT
BEGIN:VEVENT
DTSTART;TZID=America/Los_Angeles:20231206T093000
DTEND;TZID=America/Los_Angeles:20231206T140000
DTSTAMP:20260422T004416
CREATED:20231128T082354Z
LAST-MODIFIED:20231206T083736Z
UID:10000785-1701855000-1701871200@hhs.pendleton.k12.or.us
SUMMARY:Winter Concerts
DESCRIPTION:McKay Creek Elementary is pleased to perform their winter concerts on December 6\, 2023. \nGrades 1 & @ – 9:30 AM\nGrade 5 & Mrs. Smith’s Class (4th) – 10:30 AM\nGrade 3 & Mrs. Deutz’s Class (4th) – 1:30 PM
URL:https://hhs.pendleton.k12.or.us/event/winter-concerts-3/
CATEGORIES:McKay Elementary School
END:VEVENT
BEGIN:VEVENT
DTSTART;TZID=America/Los_Angeles:20230824T163000
DTEND;TZID=America/Los_Angeles:20230824T183000
DTSTAMP:20260422T004416
CREATED:20230613T161234Z
LAST-MODIFIED:20230824T033904Z
UID:10000711-1692894600-1692901800@hhs.pendleton.k12.or.us
SUMMARY:Open House – Grades 1-5
DESCRIPTION:McKay/Sherwood/Washington Elementary will host an open house from 4:30-6:30
URL:https://hhs.pendleton.k12.or.us/event/open-house/
CATEGORIES:McKay Elementary School,Sherwood Elementary School,Washington Elementary School
END:VEVENT
BEGIN:VEVENT
DTSTART;TZID=America/Los_Angeles:20230605T113000
DTEND;TZID=America/Los_Angeles:20230605T130000
DTSTAMP:20260422T004416
CREATED:20230517T123001Z
LAST-MODIFIED:20230605T153919Z
UID:10000665-1685964600-1685970000@hhs.pendleton.k12.or.us
SUMMARY:Grade 2 Lunch
DESCRIPTION:McKay 2nd graders will enjoy a walk-to-park lunch
URL:https://hhs.pendleton.k12.or.us/event/grade-2-lunch/
CATEGORIES:McKay Elementary School
END:VEVENT
BEGIN:VEVENT
DTSTART;TZID=America/Los_Angeles:20230601T124500
DTEND;TZID=America/Los_Angeles:20230601T133000
DTSTAMP:20260422T004416
CREATED:20230517T123001Z
LAST-MODIFIED:20230601T151408Z
UID:10000652-1685623500-1685626200@hhs.pendleton.k12.or.us
SUMMARY:Grade 2 Pet Day
DESCRIPTION:McKay 2nd grade pet day 12:45-1:30
URL:https://hhs.pendleton.k12.or.us/event/grade-2-pet-day/
CATEGORIES:McKay Elementary School
END:VEVENT
BEGIN:VEVENT
DTSTART;TZID=America/Los_Angeles:20230531T090000
DTEND;TZID=America/Los_Angeles:20230531T142000
DTSTAMP:20260422T004416
CREATED:20230517T123001Z
LAST-MODIFIED:20230531T150328Z
UID:10000540-1685523600-1685542800@hhs.pendleton.k12.or.us
SUMMARY:Grade 5 Field Trip
DESCRIPTION:McKay 5th grade field trip to Sage Center  9-2:20 pm
URL:https://hhs.pendleton.k12.or.us/event/grade-5-field-trip/
CATEGORIES:McKay Elementary School
END:VEVENT
BEGIN:VEVENT
DTSTART;TZID=America/Los_Angeles:20230526T083000
DTEND;TZID=America/Los_Angeles:20230526T110000
DTSTAMP:20260422T004416
CREATED:20230517T123001Z
LAST-MODIFIED:20230525T140756Z
UID:10000531-1685089800-1685098800@hhs.pendleton.k12.or.us
SUMMARY:McKay Field Day
DESCRIPTION:
URL:https://hhs.pendleton.k12.or.us/event/mckay-field-day/
CATEGORIES:McKay Elementary School
END:VEVENT
BEGIN:VEVENT
DTSTART;TZID=America/Los_Angeles:20230524T080000
DTEND;TZID=America/Los_Angeles:20230524T140000
DTSTAMP:20260422T004416
CREATED:20230517T123001Z
LAST-MODIFIED:20230524T140158Z
UID:10000653-1684915200-1684936800@hhs.pendleton.k12.or.us
SUMMARY:Grade 3 Field Trip
DESCRIPTION:McKay 3rd grader science field trip
URL:https://hhs.pendleton.k12.or.us/event/grade-3-field-trip/
CATEGORIES:McKay Elementary School
END:VEVENT
BEGIN:VEVENT
DTSTART;TZID=America/Los_Angeles:20230519T080000
DTEND;TZID=America/Los_Angeles:20230519T170000
DTSTAMP:20260422T004416
CREATED:20230517T123000Z
LAST-MODIFIED:20230519T125024Z
UID:10000649-1684483200-1684515600@hhs.pendleton.k12.or.us
SUMMARY:Grade 4 Field Trip
DESCRIPTION:McKay 4th grade field trip to Fort Walla Walla
URL:https://hhs.pendleton.k12.or.us/event/grade-4-field-trip-3/
CATEGORIES:McKay Elementary School
END:VEVENT
BEGIN:VEVENT
DTSTART;TZID=America/Los_Angeles:20230517T080000
DTEND;TZID=America/Los_Angeles:20230517T170000
DTSTAMP:20260422T004416
CREATED:20230517T123000Z
LAST-MODIFIED:20230517T123002Z
UID:10000642-1684310400-1684342800@hhs.pendleton.k12.or.us
SUMMARY:Farm-to-Market Day at McKay
DESCRIPTION:
URL:https://hhs.pendleton.k12.or.us/event/farm-to-market-day-at-mckay/
CATEGORIES:McKay Elementary School
END:VEVENT
BEGIN:VEVENT
DTSTART;TZID=America/Los_Angeles:20221207T093000
DTEND;TZID=America/Los_Angeles:20221207T130000
DTSTAMP:20260422T004416
CREATED:20221205T234017Z
LAST-MODIFIED:20221206T234234Z
UID:10000626-1670405400-1670418000@hhs.pendleton.k12.or.us
SUMMARY:McKay Winter Programs
DESCRIPTION:McKay Winter Programs: \n9:30 am: Grades 5 & Smith (4th) “The Holiday Season Around the World” \n10:30 am: Grades 3 & Deutz (4th) “The Mitten” based on the book \n12:30 pm: Grades 1 & 2 “Twas the Night Before Christmas”
URL:https://hhs.pendleton.k12.or.us/event/mckay-winter-programs/
CATEGORIES:McKay Elementary School
END:VEVENT
END:VCALENDAR